BEGIN:VCALENDAR
VERSION:2.0
PRODID:-//eventon.com NONSGML v1.0//EN
BEGIN:VEVENT
UID:69e98cd4d88a6
DTSTAMP:20260423T030700
DTSTART:20261019
DTEND:20261030
TZID:Europe/London
LOCATION:
SUMMARY:Winter Half Term - Kids Go FREE
DESCRIPTION: At Half Term\,  we let the Kids in for FREE! and will be running our popular number plate hunt. The Hot Wheels track is sure to be in demand too Get your adult tickets here and just bring the kids along to get their free admission\nhttps://greatbritishcarjourney.com/events/winter-half-term-kids-go-free/
URL:https://greatbritishcarjourney.com/events/winter-half-term-kids-go-free/
END:VEVENT
END:VCALENDAR