BEGIN:VCALENDAR
VERSION:2.0
PRODID:-//eventon.com NONSGML v1.0//EN
BEGIN:VEVENT
UID:69e98c5a07f80
DTSTAMP:20260423T030458
DTSTART:20260727
DTEND:20260904
TZID:Europe/London
LOCATION:
SUMMARY:Summer Holidays - Kids Go FREE
DESCRIPTION: When the Summer Holidays hit\,  we let the Kids in for FREE! and will be running our popular number plate hunt. The Hot Wheels track is sure to be in demand too Get your adult tickets here and just bring the kids along to get their free admission\nhttps://greatbritishcarjourney.com/events/summer-holidays-kids-go-free/
URL:https://greatbritishcarjourney.com/events/summer-holidays-kids-go-free/
END:VEVENT
END:VCALENDAR