BEGIN:VCALENDAR
VERSION:2.0
PRODID:-//eventon.com NONSGML v1.0//EN
BEGIN:VEVENT
UID:69e98cabf2071
DTSTAMP:20260423T030619
DTSTART:20260525
DTEND:20260529
TZID:Europe/London
LOCATION:
SUMMARY:Summer Half Term - Kids Go FREE
DESCRIPTION: At Half Term we let the Kids in for FREE! and will be running our popular number plate hunt. The Hot Wheels track is sure to be in demand too Get your adult tickets here and just bring the kids along to get their free admission\nhttps://greatbritishcarjourney.com/events/summer-half-term-kids-go-free/
URL:https://greatbritishcarjourney.com/events/summer-half-term-kids-go-free/
END:VEVENT
END:VCALENDAR