BEGIN:VCALENDAR
VERSION:2.0
PRODID:-//eventon.com NONSGML v1.0//EN
BEGIN:VEVENT
UID:69e98c738fc0b
DTSTAMP:20260423T030523
DTSTART:20260927T100000Z
DTEND:20260927T160000Z
TZID:Etc/Greenwich
LOCATION:
SUMMARY:Great British Car Shows Presents: Vauxhall Day
DESCRIPTION: Great British Car Shows Presents: Vauxhall on September 27th: Vauxhall was a British company until November 1925 when it was bought by General Motors. Vauxhall cars have been ubiquitous occupants of British streets for many decades with Vivas\,  Chevettes\,  Cavaliers and Corsas being huge sellers often taking the fight to[..]\nhttps://greatbritishcarjourney.com/events/great-british-car-shows-presents-vauxhall-day/
URL:https://greatbritishcarjourney.com/events/great-british-car-shows-presents-vauxhall-day/
END:VEVENT
END:VCALENDAR