BEGIN:VCALENDAR
VERSION:2.0
PRODID:-//eventon.com NONSGML v1.0//EN
BEGIN:VEVENT
UID:69e9a407d7f3f
DTSTAMP:20260423T044559
DTSTART:20260913T100000Z
DTEND:20260913T160000Z
TZID:Etc/Greenwich
LOCATION:
SUMMARY:Great British Car Shows Presents: Austin Day
DESCRIPTION: Great British Car Shows Presents: Austin on September 13th: Herbert Austin died 85 years ago\,  5 years after he was ennobled Baron Austin of Longbridge\,  the part of Birmingham which is synonymous with “The Austin” works. For over 80 years the Austin name adorned millions of cars which brought motoring[..]\nhttps://greatbritishcarjourney.com/events/great-british-car-shows-presents-austin-day/
URL:https://greatbritishcarjourney.com/events/great-british-car-shows-presents-austin-day/
END:VEVENT
END:VCALENDAR