BEGIN:VCALENDAR
VERSION:2.0
PRODID:-//eventon.com NONSGML v1.0//EN
BEGIN:VEVENT
UID:69e98dc797d38
DTSTAMP:20260423T031103
DTSTART:20260906T100000Z
DTEND:20260906T160000Z
TZID:Etc/Greenwich
LOCATION:
SUMMARY:Great British Car Shows Presents: Land Rover Day
DESCRIPTION: Great British Car Shows Presents: Land Rover on September 6th: Keats described Autumn rather romantically as the season of “mists and mellow fruitfulness” but it can also be the season of mud and extreme bogginess! No problem if you own a Land Rover or Range Rover : These utterly British icons[..]\nhttps://greatbritishcarjourney.com/events/great-british-car-shows-presents-land-rover-day/
URL:https://greatbritishcarjourney.com/events/great-british-car-shows-presents-land-rover-day/
END:VEVENT
END:VCALENDAR