BEGIN:VCALENDAR
VERSION:2.0
PRODID:-//eventon.com NONSGML v1.0//EN
BEGIN:VEVENT
UID:69e98c173d68c
DTSTAMP:20260423T030351
DTSTART:20260802T100000Z
DTEND:20260802T160000Z
TZID:Etc/Greenwich
LOCATION:
SUMMARY:Great British Car Shows Presents: Rootes Group Day
DESCRIPTION: Great British Car Shows Presents: The Rootes Brothers on August 2nd: Billy and Reggie Rootes were both elevated to The Peerage for their massive contribution to the war effort between 1939-1945. They presided over not just the biggest group of garages in the UK\,  but also the Hillman\,  Humber\,  Singer[..]\nhttps://greatbritishcarjourney.com/events/great-british-car-shows-presents-rootes-group-day/
URL:https://greatbritishcarjourney.com/events/great-british-car-shows-presents-rootes-group-day/
END:VEVENT
END:VCALENDAR