BEGIN:VCALENDAR
VERSION:2.0
PRODID:-//eventon.com NONSGML v1.0//EN
BEGIN:VEVENT
UID:69e98d30cda7d
DTSTAMP:20260423T030832
DTSTART:20260628T100000Z
DTEND:20260628T160000Z
TZID:Etc/Greenwich
LOCATION:
SUMMARY:Great British Car Shows Presents: MG Day
DESCRIPTION: Great British Car Shows Presents: MG on June 28th : Morris Garages was William Morris’s retail outlet right in the middle of Oxford. MG became the sporty arm of the Morris empire and went on to become the largest producer of two seaters ever in the UK . The brand[..]\nhttps://greatbritishcarjourney.com/events/great-british-car-shows-presents-mg-day/
URL:https://greatbritishcarjourney.com/events/great-british-car-shows-presents-mg-day/
END:VEVENT
END:VCALENDAR