BEGIN:VCALENDAR
VERSION:2.0
PRODID:-//eventon.com NONSGML v1.0//EN
BEGIN:VEVENT
UID:69e9a463cda3c
DTSTAMP:20260423T044731
DTSTART:20260614T100000Z
DTEND:20260614T160000Z
TZID:Etc/Greenwich
LOCATION:
SUMMARY:Great British Car Shows Presents: Morris Day
DESCRIPTION: Great British Car Shows Presents: Morris Day on June 14th  William Richard Morris who became Lord Nuffield is one of the two founding fathers of the British car industry. His great Cowley factory outside Oxford is still producing Minis in huge volumes. The Minor was the first car to hit[..]\nhttps://greatbritishcarjourney.com/events/great-british-car-shows-presents-morris-day/
URL:https://greatbritishcarjourney.com/events/great-british-car-shows-presents-morris-day/
END:VEVENT
END:VCALENDAR