BEGIN:VCALENDAR
VERSION:2.0
PRODID:-//eventon.com NONSGML v1.0//EN
BEGIN:VEVENT
UID:69e9a40f05050
DTSTAMP:20260423T044607
DTSTART:20260607T100000Z
DTEND:20260607T160000Z
TZID:Etc/Greenwich
LOCATION:
SUMMARY:Great British Car Shows Presents: Japanese Cars
DESCRIPTION: Great British Car Shows Presents: Japanese Cars on June 7th : Toyota are still making cars in Derbyshire and Nissan are still a major manufacturer in the UK. We celebrate them alongside Honda who made such a major contribution to keeping Triumph and Rover alive. Whilst the mighty-midget Mazda MX5[..]\nhttps://greatbritishcarjourney.com/events/great-british-car-shows-presents-japanese-cars/
URL:https://greatbritishcarjourney.com/events/great-british-car-shows-presents-japanese-cars/
END:VEVENT
END:VCALENDAR