BEGIN:VCALENDAR
VERSION:2.0
PRODID:-//eventon.com NONSGML v1.0//EN
BEGIN:VEVENT
UID:69e98d720b62b
DTSTAMP:20260423T030938
DTSTART:20260531T100000Z
DTEND:20260531T160000Z
TZID:Etc/Greenwich
LOCATION:
SUMMARY:Great British Car Shows Presents: Ford Day
DESCRIPTION: Great British Car Shows Presents: Ford on May 31st : So many legendary cars but let’s not forget the lesser known models; the V8 Pilot\,  Consul Classic\,  Zephyr and Zodiac and all those massive American Fords. The Fiesta is 50 years young this year and the Ka turns 30 in[..]\nhttps://greatbritishcarjourney.com/events/great-british-car-shows-presents-ford-day/
URL:https://greatbritishcarjourney.com/events/great-british-car-shows-presents-ford-day/
END:VEVENT
END:VCALENDAR