BEGIN:VCALENDAR
VERSION:2.0
PRODID:-//eventon.com NONSGML v1.0//EN
BEGIN:VEVENT
UID:69e9a3a3797ac
DTSTAMP:20260423T044419
DTSTART:20260517T100000Z
DTEND:20260517T160000Z
TZID:Etc/Greenwich
LOCATION:
SUMMARY:Great British Car Shows Presents: French Cars
DESCRIPTION: Great British Car Shows Presents: French Cars on May 17th : Citroen\,  Peugeot and Renault are the big names from our neighbours across the channel\,  but Alpine and Simca followed their own individual routes too. Vive La Difference! The Renault 4 is 65 years old as the Citroen C5 turns 25[..]\nhttps://greatbritishcarjourney.com/events/great-british-car-shows-presents-french-cars/
URL:https://greatbritishcarjourney.com/events/great-british-car-shows-presents-french-cars/
END:VEVENT
END:VCALENDAR