BEGIN:VCALENDAR
VERSION:2.0
PRODID:-//eventon.com NONSGML v1.0//EN
BEGIN:VEVENT
UID:69e98d7600c6e
DTSTAMP:20260423T030942
DTSTART:20260426T100000Z
DTEND:20260426T160000Z
TZID:Etc/Greenwich
LOCATION:
SUMMARY:Great British Car Shows Presents: Drive It Day 2026
DESCRIPTION: Great British Car Shows Presents: Drive It Day on April 26th : Organised by the wonderful Federation of British Historic Vehicle Clubs who do so much work to protect our cars from being outlawed. The day is open house at Great British Car Journey for ANY Classic car. A £15[..]\nhttps://greatbritishcarjourney.com/events/great-british-car-shows-presents-drive-it-day-2026/
URL:https://greatbritishcarjourney.com/events/great-british-car-shows-presents-drive-it-day-2026/
END:VEVENT
END:VCALENDAR